BEGIN:VCALENDAR
VERSION:2.0
PRODID:-//RG Zürichsee - ECPv6.14.0//NONSGML v1.0//EN
CALSCALE:GREGORIAN
METHOD:PUBLISH
X-WR-CALNAME:RG Zürichsee
X-ORIGINAL-URL:https://www.rg-zuerichsee.ch
X-WR-CALDESC:Events for RG Zürichsee
REFRESH-INTERVAL;VALUE=DURATION:PT1H
X-Robots-Tag:noindex
X-PUBLISHED-TTL:PT1H
BEGIN:VTIMEZONE
TZID:UTC
BEGIN:STANDARD
TZOFFSETFROM:+0000
TZOFFSETTO:+0000
TZNAME:UTC
DTSTART:20260101T000000
END:STANDARD
END:VTIMEZONE
BEGIN:VTIMEZONE
TZID:Europe/Helsinki
BEGIN:DAYLIGHT
TZOFFSETFROM:+0200
TZOFFSETTO:+0300
TZNAME:EEST
DTSTART:20250330T010000
END:DAYLIGHT
BEGIN:STANDARD
TZOFFSETFROM:+0300
TZOFFSETTO:+0200
TZNAME:EET
DTSTART:20251026T010000
END:STANDARD
END:VTIMEZONE
BEGIN:VEVENT
DTSTART;VALUE=DATE:20260328
DTEND;VALUE=DATE:20260330
DTSTAMP:20260423T044339
CREATED:20250703T122352Z
LAST-MODIFIED:20251217T193517Z
UID:4351-1774656000-1774828799@www.rg-zuerichsee.ch
SUMMARY:Einzel Juniorinnen P4\, P5\, P6 / Gruppen G1\, G3\, G4 (28-29 March)\, Basel
DESCRIPTION:
URL:https://www.rg-zuerichsee.ch/event/einzel-juniorinnen-p4-p5-p6-gruppen-g1-g3-g4/
CATEGORIES:Nationale Wettkämpfe 1. Qualifikation
END:VEVENT
BEGIN:VEVENT
DTSTART;VALUE=DATE:20260321
DTEND;VALUE=DATE:20260323
DTSTAMP:20260423T044339
CREATED:20250703T121152Z
LAST-MODIFIED:20251217T192857Z
UID:4342-1774051200-1774223999@www.rg-zuerichsee.ch
SUMMARY:Glarner Cup (21-22 März)\, Glarus
DESCRIPTION:
URL:https://www.rg-zuerichsee.ch/event/glarner-cup-glarus/
CATEGORIES:Regionale Wettkämpfe
END:VEVENT
BEGIN:VEVENT
DTSTART;VALUE=DATE:20260307
DTEND;VALUE=DATE:20260309
DTSTAMP:20260423T044339
CREATED:20250703T121214Z
LAST-MODIFIED:20251217T192821Z
UID:4344-1772841600-1773014399@www.rg-zuerichsee.ch
SUMMARY:Frühlings Cup (7-8 Marz)\, Domat/Ems
DESCRIPTION:
URL:https://www.rg-zuerichsee.ch/event/fruhlingscup-ink-bundnermeisterschaft-domat-ems/
CATEGORIES:Regionale Wettkämpfe
END:VEVENT
BEGIN:VEVENT
DTSTART;VALUE=DATE:20260228
DTEND;VALUE=DATE:20260302
DTSTAMP:20260423T044339
CREATED:20250703T120505Z
LAST-MODIFIED:20251217T192951Z
UID:4337-1772236800-1772409599@www.rg-zuerichsee.ch
SUMMARY:RG Ticino (28 Feb.- 01 März)\, Biasca
DESCRIPTION:
URL:https://www.rg-zuerichsee.ch/event/rg-ticino-event/
CATEGORIES:Regionale Wettkämpfe
END:VEVENT
BEGIN:VEVENT
DTSTART;VALUE=DATE:20260124
DTEND;VALUE=DATE:20260126
DTSTAMP:20260423T044339
CREATED:20250703T121128Z
LAST-MODIFIED:20251217T193122Z
UID:4340-1769212800-1769385599@www.rg-zuerichsee.ch
SUMMARY:Winter Cup Ems (24 – 25 Januar)\, Domat/Ems
DESCRIPTION:
URL:https://www.rg-zuerichsee.ch/event/queen-cup-wohlen-ag/
CATEGORIES:Regionale Wettkämpfe
END:VEVENT
BEGIN:VEVENT
DTSTART;VALUE=DATE:20251220
DTEND;VALUE=DATE:20251221
DTSTAMP:20260423T044339
CREATED:20251217T193249Z
LAST-MODIFIED:20251217T193249Z
UID:4911-1766188800-1766275199@www.rg-zuerichsee.ch
SUMMARY:Weihnachtsshow (20 Dez)\, Zug
DESCRIPTION:
URL:https://www.rg-zuerichsee.ch/event/weihnachtsshow-20-dez-zug/
CATEGORIES:Interne Anlässe
END:VEVENT
END:VCALENDAR