BEGIN:VCALENDAR
VERSION:2.0
PRODID:-//RG Zürichsee - ECPv6.14.0//NONSGML v1.0//EN
CALSCALE:GREGORIAN
METHOD:PUBLISH
X-ORIGINAL-URL:https://www.rg-zuerichsee.ch
X-WR-CALDESC:Events for RG Zürichsee
REFRESH-INTERVAL;VALUE=DURATION:PT1H
X-Robots-Tag:noindex
X-PUBLISHED-TTL:PT1H
BEGIN:VTIMEZONE
TZID:UTC
BEGIN:STANDARD
TZOFFSETFROM:+0000
TZOFFSETTO:+0000
TZNAME:UTC
DTSTART:20260101T000000
END:STANDARD
END:VTIMEZONE
BEGIN:VEVENT
DTSTART;VALUE=DATE:20260628
DTEND;VALUE=DATE:20260630
DTSTAMP:20260423T014648
CREATED:20250703T120412Z
LAST-MODIFIED:20251217T192013Z
UID:4333-1782604800-1782777599@www.rg-zuerichsee.ch
SUMMARY:Internen Wettkampf RG Zürichsee & RG Zug (28 Juni)
DESCRIPTION:
URL:https://www.rg-zuerichsee.ch/event/internen-wettkampf-rg-zurichsee-zurich-rg-zug/
CATEGORIES:Interne Anlässe
END:VEVENT
END:VCALENDAR