BEGIN:VCALENDAR
VERSION:2.0
PRODID:-//RG Zürichsee - ECPv6.14.0//NONSGML v1.0//EN
CALSCALE:GREGORIAN
METHOD:PUBLISH
X-WR-CALNAME:RG Zürichsee
X-ORIGINAL-URL:https://www.rg-zuerichsee.ch
X-WR-CALDESC:Events for RG Zürichsee
REFRESH-INTERVAL;VALUE=DURATION:PT1H
X-Robots-Tag:noindex
X-PUBLISHED-TTL:PT1H
BEGIN:VTIMEZONE
TZID:Europe/Helsinki
BEGIN:DAYLIGHT
TZOFFSETFROM:+0200
TZOFFSETTO:+0300
TZNAME:EEST
DTSTART:20250330T010000
END:DAYLIGHT
BEGIN:STANDARD
TZOFFSETFROM:+0300
TZOFFSETTO:+0200
TZNAME:EET
DTSTART:20251026T010000
END:STANDARD
END:VTIMEZONE
BEGIN:VEVENT
DTSTART;VALUE=DATE:20251220
DTEND;VALUE=DATE:20251221
DTSTAMP:20260423T045653
CREATED:20251217T193249Z
LAST-MODIFIED:20251217T193249Z
UID:4911-1766188800-1766275199@www.rg-zuerichsee.ch
SUMMARY:Weihnachtsshow (20 Dez)\, Zug
DESCRIPTION:
URL:https://www.rg-zuerichsee.ch/event/weihnachtsshow-20-dez-zug/
CATEGORIES:Interne Anlässe
END:VEVENT
END:VCALENDAR