BEGIN:VCALENDAR
VERSION:2.0
PRODID:-//RG Zürichsee - ECPv6.14.0//NONSGML v1.0//EN
CALSCALE:GREGORIAN
METHOD:PUBLISH
X-WR-CALNAME:RG Zürichsee
X-ORIGINAL-URL:https://www.rg-zuerichsee.ch
X-WR-CALDESC:Events for RG Zürichsee
REFRESH-INTERVAL;VALUE=DURATION:PT1H
X-Robots-Tag:noindex
X-PUBLISHED-TTL:PT1H
BEGIN:VTIMEZONE
TZID:UTC
BEGIN:STANDARD
TZOFFSETFROM:+0000
TZOFFSETTO:+0000
TZNAME:UTC
DTSTART:20260101T000000
END:STANDARD
END:VTIMEZONE
BEGIN:VEVENT
DTSTART;VALUE=DATE:20260523
DTEND;VALUE=DATE:20260525
DTSTAMP:20260423T012433
CREATED:20250703T122626Z
LAST-MODIFIED:20251217T193748Z
UID:4356-1779494400-1779667199@www.rg-zuerichsee.ch
SUMMARY:Einzel Juniorinnen P4\, P5\, P6 / Gruppen G1\, G3\, G4 (23-24 May)\, Jona
DESCRIPTION:
URL:https://www.rg-zuerichsee.ch/event/einzel-jugend-p2-p3-gruppen-g2-2/
CATEGORIES:Nationale Wettkämpfe 2. Qualifikation
END:VEVENT
END:VCALENDAR