BEGIN:VCALENDAR
VERSION:2.0
PRODID:-//RG Zürichsee - ECPv6.14.0//NONSGML v1.0//EN
CALSCALE:GREGORIAN
METHOD:PUBLISH
X-WR-CALNAME:RG Zürichsee
X-ORIGINAL-URL:https://www.rg-zuerichsee.ch
X-WR-CALDESC:Events for RG Zürichsee
REFRESH-INTERVAL;VALUE=DURATION:PT1H
X-Robots-Tag:noindex
X-PUBLISHED-TTL:PT1H
BEGIN:VTIMEZONE
TZID:UTC
BEGIN:STANDARD
TZOFFSETFROM:+0000
TZOFFSETTO:+0000
TZNAME:UTC
DTSTART:20260101T000000
END:STANDARD
END:VTIMEZONE
BEGIN:VEVENT
DTSTART;VALUE=DATE:20260425
DTEND;VALUE=DATE:20260427
DTSTAMP:20260423T012534
CREATED:20250703T122657Z
LAST-MODIFIED:20251217T193627Z
UID:4358-1777075200-1777247999@www.rg-zuerichsee.ch
SUMMARY:Einzel Jugend P2\, P3 / Gruppen G2 (25-26 April)\, Payerne
DESCRIPTION:
URL:https://www.rg-zuerichsee.ch/event/einzel-juniorinnen-p4-p5-p6-gruppen-g1-g3-g4-2/
CATEGORIES:Nationale Wettkämpfe 2. Qualifikation
END:VEVENT
END:VCALENDAR