BEGIN:VCALENDAR
VERSION:2.0
PRODID:-//RG Zürichsee - ECPv6.14.0//NONSGML v1.0//EN
CALSCALE:GREGORIAN
METHOD:PUBLISH
X-ORIGINAL-URL:https://www.rg-zuerichsee.ch
X-WR-CALDESC:Events for RG Zürichsee
REFRESH-INTERVAL;VALUE=DURATION:PT1H
X-Robots-Tag:noindex
X-PUBLISHED-TTL:PT1H
BEGIN:VTIMEZONE
TZID:UTC
BEGIN:STANDARD
TZOFFSETFROM:+0000
TZOFFSETTO:+0000
TZNAME:UTC
DTSTART:20260101T000000
END:STANDARD
END:VTIMEZONE
BEGIN:VEVENT
DTSTART;VALUE=DATE:20260328
DTEND;VALUE=DATE:20260330
DTSTAMP:20260423T012555
CREATED:20250703T122352Z
LAST-MODIFIED:20251217T193517Z
UID:4351-1774656000-1774828799@www.rg-zuerichsee.ch
SUMMARY:Einzel Juniorinnen P4\, P5\, P6 / Gruppen G1\, G3\, G4 (28-29 March)\, Basel
DESCRIPTION:
URL:https://www.rg-zuerichsee.ch/event/einzel-juniorinnen-p4-p5-p6-gruppen-g1-g3-g4/
CATEGORIES:Nationale Wettkämpfe 1. Qualifikation
END:VEVENT
END:VCALENDAR